BEGIN:VCALENDAR
VERSION:2.0
PRODID:-//hacksw/handcal//NONSGML v1.0//EN
BEGIN:VEVENT
SUMMARY:Randonnee du Petit Bugey
UID:300704b8-f92a-418e-be17-513e2f1d0014
DTSTART:20260430T220000Z
DTEND:20260501T220000Z
LOCATION:Localisation   
CATEGORIES:Sportif
STATUS:
DESCRIPTION:<p><span style="font-size:18px;">Toutes les informations
 sur le site du club :</span></p>
 
 <p> </p>
 
 <header>
 <h1>Circuits
 RPB 2026</h1>
 </header>
 
 <h2
 id="4-circuits-de-34-a-102-km-sur-des-deniveles-positifs-de-370-a-1500m">6 <strong>circuits
 route de 35 a 110 km sur des deniveles positifs de 370 a 2
 000m</strong> vous sont proposes.<br />
 Traces sur OpenRunner, ces
 circuits sont susceptibles de ne pas correspondent au releve de votre
 compteur, nous n’en sommes pas tenus responsables.<br />
 Ces
 circuits sont possibles d’evoluer en fonction d’evenements
 independants de notre volonte.</h2>
 
 <h2><a
 href="https://www.openrunner.com/route-details/22838421"><strong><em>Lien
 OpenRunner</em></strong></a> pour charger le fichier GPX du circuit
 6 de <a href="https://www.openrunner.com/route-details/22838421">110
 km et 2 000m de denivele.</a></h2>
 
 <p><a
 href="https://www.cyclosyennois.fr/rpb/randonnee-du-petit-bugey-1er-mai-2026/"
 target="_blank"><span
 style="font-size:18px;">https://www.cyclosyennois.fr/rpb/circuits-rpb-2026/</span></a></p>
URL;VALUE=URI:https://www.cyclosalbertvillois.com/evenements/2026/05/01/randonnee-du-petit-bugey-2433517
END:VEVENT
END:VCALENDAR
